BEGIN:VCALENDAR
VERSION:2.0
PRODID:-//Eventin//Event Calendar//EN
CALSCALE:GREGORIAN
METHOD:PUBLISH
BEGIN:VEVENT
UID:fb1d1d1e2e7c237d76ce544c8e12b286@icecookschool.co.uk
SUMMARY:Evening Lunch Bar
DESCRIPTION:This isn't your typical dining destination. An “ICE Lunch Bar
 ” is a fully immersive live dining experience. You and 14 other guests st
 ep into the kitchen as the culinary magic unfolds in real-time. No menu is 
 ever repeated twice to ensure every single time we lift the curtain is uniq
 ue.\n\nTaking inspiration from the renowned Pinotxo Bar on the Ramblas in B
 arcelona\, the ICE Lunch Bar is relaxed and unpretentious to ensure you ins
 tantly feel comfortable and welcome.\n\nWe will explain the ingredients\, p
 rocesses\, and dishes to you and then take you on our culinary journey of c
 ourses. An ICE Lunch Bar is simply a place where theatre and cooking unite 
 to create an unforgettable dining experience.\n\nDrinks are not included bu
 t we have a fully stocked bar and an extensive wine list available througho
 ut (charged separately).\n\nWith just 15 seats available\, please book earl
 y to avoid disappointment. Bookings are not guaranteed until full payment i
 s made.  Cancellations made with less than 7 days’ notice unfortunately 
 cannot be refunded.\n\nPlease arrive by 12.15 pm ready to be seated at 12.3
 0 pm. By asking everybody to sit together we can ensure that you are all pa
 rt of the same experience and enjoy our dining journey as one.\n\nTo enable
  us to ensure your ICE experience is seamless and special\, we would be ver
 y grateful if you could please let us know if you have any specific dietary
  or access requirements. We will always try to adjust our dishes for you wh
 enever possible. Please email us (info@icecookschool.co.uk) at your earlies
 t convenience with your dietary requirements.\n\nOur goal is to make sure e
 ach and every guest has an amazing experience. That has become the proud be
 nchmark of the ICE Lunch Bar!
LOCATION:ICE Cook School
DTSTAMP:20260423T162951Z
DTSTART:20260508T174500Z
DTEND:20260508T210000Z
END:VEVENT
END:VCALENDAR
