BEGIN:VCALENDAR
VERSION:2.0
PRODID:-//Eventin//Event Calendar//EN
CALSCALE:GREGORIAN
METHOD:PUBLISH
BEGIN:VEVENT
UID:a423d88fdb253bbdf484145be5636619@icecookschool.co.uk
SUMMARY:Full Day Bread Making Class
DESCRIPTION:Immerse yourself in a day of bread making in our state-of-the-a
 rt cookery school. On this full-day course\, you’ll explore a range of fl
 ours\, yeasts\, and why they’re used\, all while mastering kneading techn
 iques and baking skills. We’ll start with foundational bread recipes befo
 re progressing to more advanced creations.\n\nYour day at ICE includes all 
 the ingredients\, professional equipment\, refreshments\, free parking\, an
 d a hearty lunch to keep you fuelled for this hands-on experience.\n\nDon
 ’t forget to bring containers to take home your freshly baked creations
 —perfect for sharing with friends and family.\n\nPlease be aware that we 
 cook using induction hobs. If you have a pacemaker fitted\, please make us 
 aware so that we can make the necessary adjustments.
LOCATION:ICE Cook School
DTSTAMP:20260423T162905Z
DTSTART:20260514T090000Z
DTEND:20260514T150000Z
END:VEVENT
END:VCALENDAR
