BEGIN:VCALENDAR
VERSION:2.0
PRODID:-//Eventin//Event Calendar//EN
CALSCALE:GREGORIAN
METHOD:PUBLISH
BEGIN:VEVENT
UID:c9b2eb42f58d906183175d66370fe072@icecookschool.co.uk
SUMMARY:Date Night
DESCRIPTION:Looking for a romantic date idea that’s perfect for couples w
 ho love food? Join us for Date Night at ICE Cook School! Whether it’s you
 r first date or a cherished evening to reconnect\, this interactive dining 
 experience offers an unforgettable way to bond over food. You and your part
 ner will cook\, dine\, and create special memories in our relaxed kitchen s
 etting.\n\nIdeal for couples seeking unique date night experiences\, you’
 ll prepare and enjoy a three-course meal together while learning cooking sk
 ills. Our expert chefs bring the perfect blend of culinary knowledge\, fun\
 , and flavourful dining to make it a night to remember.\n\nEach booking cov
 ers a couple and includes preparing and savouring a delicious three-course 
 dinner. While alcoholic beverages are not included in the ticket price\, ou
 r fully licensed bar is available to complement your meal.\n\nLooking for r
 omantic date night ideas? Date Night at ICE Cook School offers the perfect 
 mix of love\, delicious food\, and memorable moments!\n\nClass Includes:\n\
 n● Unlimited tea\, coffee\, and water throughout the evening.\n\n● Prep
 aration and dining of a three-course meal.\n\nNote: 1 booking = 1 couple.\n
 \nPlease be aware that we cook using induction hobs. If you have a pacemake
 r fitted\, please make us aware so that we can make the necessary adjustmen
 ts.
LOCATION:ICE Cook School
DTSTAMP:20260423T162806Z
DTSTART:20260521T170000Z
DTEND:20260521T200000Z
END:VEVENT
END:VCALENDAR
