BEGIN:VCALENDAR
VERSION:2.0
PRODID:-//Eventin//Event Calendar//EN
CALSCALE:GREGORIAN
METHOD:PUBLISH
BEGIN:VEVENT
UID:46fce5fc39442f8119be8325f92a1b90@icecookschool.co.uk
SUMMARY:Brushes\, Bubbles & Bites
DESCRIPTION:Settle in for a relaxed evening of creativity\, delicious food\
 , and a glass in hand at ICE Restaurant.\n\nGuided by artist Sarah Rawlin
 son\, you’ll be taken step-by-step through creating a vibrant fish painti
 ng\, with plenty of guidance along the way. No experience needed\, just com
 e along and enjoy the process.\n\nAll materials are provided\, so you can f
 ocus on the painting. On arrival\, you’ll be welcomed with a glass of pro
 secco\, light nibbles throughout the evening such as crisps and nuts\, plus
  a short break to enjoy freshly made sharing pizzas at the table.\n\nAdditi
 onal drinks will be available from our fully stocked bar.\n\nCome with frie
 nds or join solo\, and leave with your own finished piece to take home.\n\n
 Arrival: Please arrive at 6:45pm for a 7:00pm start.\n\nPlanning to make a
 n evening of it? You’re welcome to dine with us beforehand. Reserve your 
 table at https://ice.restaurant/ice-booking\n\nRefunds: Full refunds avai
 lable up to 2 weeks before the event. After that\, cancellations are handle
 d case by case.
LOCATION:ICE Cook School
DTSTAMP:20260423T162839Z
DTSTART:20260521T174500Z
DTEND:20260521T203000Z
END:VEVENT
END:VCALENDAR
