BEGIN:VCALENDAR
VERSION:2.0
PRODID:-//Eventin//Event Calendar//EN
CALSCALE:GREGORIAN
METHOD:PUBLISH
BEGIN:VEVENT
UID:4b7937868dca1a5b5ceb7694004dbd6b@icecookschool.co.uk
SUMMARY:Kids Italian Cooking Class
DESCRIPTION:Come along with our engaging and skilled chefs on a thrilling t
 hree-hour exploration of everything Italian!\n\nDive into the world of riso
 tto\, pasta\, pizza\, and gelato during this enjoyable session. We'll guide
  you through simple recipes that your kids can effortlessly recreate in the
  comfort of your own home.\n\nDue to insurance conditions\, all children mu
 st be accompanied by a non-participating adult during this class\, space is
  limited to one adult only per child. Booking price includes one child and 
 an accompanying adult. Minimum age for attending a kids class is 8 years o
 ld.\n\nClass Includes:\n\n● One three-hour class tuition\n\n● Squash an
 d water throughout the session\n\n● Recipe pack\n\n● The dishes made to
  take away and enjoy at home\n\nPlease be aware that we cook using inductio
 n hobs. If you have a pacemaker fitted\, please make us aware so that we ca
 n make the necessary adjustments.\n\n \n\n 
LOCATION:ICE Cook School
DTSTAMP:20260423T164542Z
DTSTART:20260529T100000Z
DTEND:20260529T130000Z
END:VEVENT
END:VCALENDAR
