BEGIN:VCALENDAR
VERSION:2.0
PRODID:-//Eventin//Event Calendar//EN
CALSCALE:GREGORIAN
METHOD:PUBLISH
BEGIN:VEVENT
UID:cf0c9c12b2cd9bee40f5d03e55cba65a@icecookschool.co.uk
SUMMARY:Full Day Cooking Class
DESCRIPTION:Immerse yourself in a day of culinary exploration within our st
 ate-of-the-art cookery school nestled in the heart of ICE. Our team of expe
 rt chefs will craft a delightful seasonal menu for you to prepare and enjoy
 \, all while enhancing your culinary knowledge and skills in a relaxed and 
 entertaining setting. Regardless of your ability\, we will guide you throug
 hout the day as you create dishes that will not only delight your taste bud
 s but also impress your future dinner guests.\n\nEvery month\, we introduce
  a new menu to keep you engaged and continually expand your repertoire of d
 ishes and culinary abilities. During your day at ICE\, we provide all the n
 ecessary ingredients\, equipment\, refreshments\, free parking\, a satisfyi
 ng lunch\, and\, of course\, plenty of enjoyable moments.\n\nBe sure to bri
 ng extra containers\, as any uneaten delights are yours to take home and sh
 are with family and friends.\n\nThis full-day cooking class embodies the es
 sence of an "Infusions Culinary Experience\," though we prefer to keep it s
 imple and just call it ICE.\n\nPlease be aware that we cook using induction
  hobs. If you have a pacemaker fitted\, please make us aware so that we can
  make the necessary adjustments.\n\n \n\n 
LOCATION:ICE Cook School
DTSTAMP:20260423T162716Z
DTSTART:20260702T090000Z
DTEND:20260702T150000Z
END:VEVENT
END:VCALENDAR
