BEGIN:VCALENDAR
VERSION:2.0
PRODID:-//Eventin//Event Calendar//EN
CALSCALE:GREGORIAN
METHOD:PUBLISH
BEGIN:VEVENT
UID:f4d24ae1614df721b2d98b15e74a1a27@icecookschool.co.uk
SUMMARY:Brushes\, Bubbles & Bites
DESCRIPTION:Settle in for a relaxed evening of creativity\, delicious food\
 , and a glass in hand at ICE Restaurant.\n\nGuided by artist Sarah Rawlins
 on\, you’ll be taken step-by-step through creating a beautiful orchid pai
 nting\, with plenty of guidance along the way. No experience needed\, just 
 come along and enjoy the process.\n\nAll materials are provided\, so you ca
 n focus on the painting. On arrival\, you’ll be welcomed with a glass of 
 prosecco\, light nibbles throughout the evening such as crisps and nuts\, p
 lus a short break to enjoy freshly made sharing pizzas at the table.\n\nAdd
 itional drinks will be available from our fully stocked bar.\n\nCome with f
 riends or join solo\, and leave with your own finished piece to take home.\
 n\nArrival: Please arrive at 6:45pm for a 7:00pm start.\n\nPlanning to mak
 e an evening of it? You’re welcome to dine with us beforehand. Reserve yo
 ur table at https://ice.restaurant/ice-booking\n\nRefunds: Full refunds a
 vailable up to 2 weeks before the event. After that\, cancellations are han
 dled case by case.
LOCATION:ICE Cook School
DTSTAMP:20260423T162736Z
DTSTART:20260716T174500Z
DTEND:20260716T203000Z
END:VEVENT
END:VCALENDAR
