BEGIN:VCALENDAR
VERSION:2.0
PRODID:-//Eventin//Event Calendar//EN
CALSCALE:GREGORIAN
METHOD:PUBLISH
BEGIN:VEVENT
UID:0078f8f1d65939d962a57f83b9785766@icecookschool.co.uk
SUMMARY:Kids Japanese Cooking Class
DESCRIPTION:In this fun and interactive three-hour cookery class\, young ch
 efs will roll up their sleeves and discover the flavours and techniques of 
 Japanese cooking with our experienced ICE chefs. Together\, they’ll learn
  how to prepare colourful sushi rolls (with no raw fish) and make delicious
  Japanese dumplings from scratch.\n\nFrom shaping dumplings to rolling sush
 i\, children will be guided step-by-step through simple techniques that bui
 ld confidence and creativity in the kitchen. Expect a relaxed\, hands-on at
 mosphere filled with fun\, learning\, and plenty of tasty results.\n\nDue t
 o insurance conditions\, all children must be accompanied by a non-particip
 ating adult during this class\, space is limited to one adult only per chil
 d. Booking price includes one child and an accompanying adult. Minimum age
  for attending a kids class is 8 years old.\n\nClass Includes\n\n● One th
 ree-hour class tuition\n\n● Squash and water throughout the session\n\n
 ● Recipe pack\n\n● The dishes made to take away and enjoy at home\n\nPl
 ease be aware that we cook using induction hobs. If you have a pacemaker fi
 tted\, please make us aware so that we can make the necessary adjustments.\
 n\n \n\n 
LOCATION:ICE Cook School
DTSTAMP:20260423T164031Z
DTSTART:20260806T100000Z
DTEND:20260806T130000Z
END:VEVENT
END:VCALENDAR
