BEGIN:VCALENDAR
VERSION:2.0
PRODID:-//Eventin//Event Calendar//EN
CALSCALE:GREGORIAN
METHOD:PUBLISH
BEGIN:VEVENT
UID:3f090bd0842f57cf8cdfbcfd7b2c130d@icecookschool.co.uk
SUMMARY:Kids Indian Cooking Class
DESCRIPTION:In this fun and interactive three-hour cookery class\, young ch
 efs will explore the wonderful flavours of Indian cooking with our experien
 ced ICE chefs. They’ll learn how to make soft\, delicious naan bread\, pr
 epare a traditional Indian curry sauce from scratch\, and discover how diff
 erent spices are used to create rich and aromatic dishes.\n\nWith simple\, 
 hands-on guidance and plenty of encouragement\, children will learn the bas
 ics of cooking with spices and gain confidence in the kitchen while creatin
 g dishes they can recreate at home. The curry base they make is incredibly 
 versatile\, opening the door to many different Indian-inspired meals.\n\nEx
 pect a relaxed\, creative atmosphere filled with fun\, flavour\, and the fi
 rst steps into one of the world’s most diverse and exciting culinary trad
 itions.\n\nDue to insurance conditions\, all children must be accompanied b
 y a non-participating adult during this class\, space is limited to one adu
 lt only per child. Booking price includes one child and an accompanying adu
 lt. Minimum age for attending a kids class is 8 years old.\n\nClass Includ
 es\n\n● One three-hour class tuition\n\n● Squash and water throughout t
 he session\n\n● Recipe pack\n\n● The dishes made to take away and enjoy
  at home\n\nPlease be aware that we cook using induction hobs. If you have 
 a pacemaker fitted\, please make us aware so that we can make the necessary
  adjustments.\n\n \n\n 
LOCATION:ICE Cook School
DTSTAMP:20260423T162806Z
DTSTART:20260813T100000Z
DTEND:20260813T130000Z
END:VEVENT
END:VCALENDAR
