BEGIN:VCALENDAR
VERSION:2.0
PRODID:-//Eventin//Event Calendar//EN
CALSCALE:GREGORIAN
METHOD:PUBLISH
BEGIN:VEVENT
UID:949c5fa17f8c327a09014ba085549330@icecookschool.co.uk
SUMMARY:Kids French Cooking Class
DESCRIPTION:In this fun and interactive three-hour cookery class\, young ch
 efs will discover the foundations of classic French cooking with our experi
 enced ICE chefs. Often described as the mother of great cuisine\, French co
 oking has influenced kitchens around the world\, from its famous sauces to 
 its beautiful pastries and desserts.\n\nDuring the session\, children will 
 learn simple techniques inspired by traditional French cooking while creati
 ng delicious dishes along the way. With clear guidance and plenty of encour
 agement\, they’ll build confidence in the kitchen and gain skills that fo
 rm the basis of a lifetime of cooking.\n\nDue to insurance conditions\, all
  children must be accompanied by a non-participating adult during this clas
 s\, space is limited to one adult only per child. Booking price includes on
 e child and an accompanying adult. Minimum age for attending a kids class 
 is 8 years old.\n\nClass Includes\n\n● One three-hour class tuition\n\n
 ● Squash and water throughout the session\n\n● Recipe pack\n\n● The d
 ishes made to take away and enjoy at home\n\nPlease be aware that we cook u
 sing induction hobs. If you have a pacemaker fitted\, please make us aware 
 so that we can make the necessary adjustments.
LOCATION:ICE Cook School
DTSTAMP:20260423T164031Z
DTSTART:20260820T100000Z
DTEND:20260820T130000Z
END:VEVENT
END:VCALENDAR
