BEGIN:VCALENDAR
VERSION:2.0
PRODID:-//Eventin//Event Calendar//EN
CALSCALE:GREGORIAN
METHOD:PUBLISH
BEGIN:VEVENT
UID:b1c5b965cc65b4c1f41394d8a3dfd82d@icecookschool.co.uk
SUMMARY:Kids Chinese Cooking Class
DESCRIPTION:In this fun and interactive three-hour cookery class\, young ch
 efs will explore the wonderful world of Chinese cooking with our experience
 d ICE chefs. They’ll learn how to prepare delicious bamboo-steamed dumpli
 ngs from scratch\, discovering simple techniques used in one of the world
 ’s most loved cuisines.\n\nFrom mixing fillings to folding dumplings and 
 cooking with fresh ingredients\, children will gain hands-on experience whi
 le learning new kitchen skills they can recreate at home. Along the way\, t
 hey’ll also discover a little more about the flavours and traditions that
  make Chinese food so special.\n\nExpect a relaxed\, creative atmosphere fi
 lled with fun\, learning\, and plenty of delicious results. Extra credit fo
 r anyone who can master eating their dumplings with chopsticks.\n\nDue to i
 nsurance conditions\, all children must be accompanied by a non-participati
 ng adult during this class\, space is limited to one adult only per child. 
 Booking price includes one child and an accompanying adult. Minimum age fo
 r attending a kids class is 8 years old.\n\nClass Includes\n\n● One three
 -hour class tuition\n\n● Squash and water throughout the session\n\n● R
 ecipe pack\n\n● The dishes made to take away and enjoy at home\n\nPlease 
 be aware that we cook using induction hobs. If you have a pacemaker fitted\
 , please make us aware so that we can make the necessary adjustments.\n\n 
 \n\n 
LOCATION:ICE Cook School
DTSTAMP:20260423T163027Z
DTSTART:20260827T100000Z
DTEND:20260827T130000Z
END:VEVENT
END:VCALENDAR
