BEGIN:VCALENDAR
VERSION:2.0
PRODID:-//Eventin//Event Calendar//EN
CALSCALE:GREGORIAN
METHOD:PUBLISH
BEGIN:VEVENT
UID:5790fd3e306f32a8075543c9052b9e4e@icecookschool.co.uk
SUMMARY:Brushes\, Bubbles & Bites
DESCRIPTION:Settle in for a relaxed evening of creativity\, delicious food\
 , and a glass in hand at ICE Restaurant.\n\nGuided by artist Sarah Rawlins
 on\, you’ll be taken step-by-step through creating a stunning sunflower p
 ainting\, with plenty of guidance along the way. No experience needed\, jus
 t come along and enjoy the process.\n\nAll materials are provided\, so you 
 can focus on the painting. On arrival\, you’ll be welcomed with a glass o
 f prosecco\, light nibbles throughout the evening such as crisps and nuts\,
  plus a short break to enjoy freshly made sharing pizzas at the table.\n\nA
 dditional drinks will be available from our fully stocked bar.\n\nCome with
  friends or join solo\, and leave with your own finished piece to take home
 .\n\nArrival: Please arrive at 6:45pm for a 7:00pm start.\n\nPlanning to m
 ake an evening of it? You’re welcome to dine with us beforehand. Reserve 
 your table at https://ice.restaurant/ice-booking\n\nRefunds: Full refunds
  available up to 2 weeks before the event. After that\, cancellations are h
 andled case by case.
LOCATION:ICE Cook School
DTSTAMP:20260423T163125Z
DTSTART:20260917T174500Z
DTEND:20260917T203000Z
END:VEVENT
END:VCALENDAR
