BEGIN:VCALENDAR
VERSION:2.0
PRODID:-//Eventin//Event Calendar//EN
CALSCALE:GREGORIAN
METHOD:PUBLISH
BEGIN:VEVENT
UID:089814bb98bc3631d709109c0a0c1824@icecookschool.co.uk
SUMMARY:Lunch Bar
DESCRIPTION:This isn’t your typical dining destination. An “ICE Lunch B
 ar” is a fully immersive live dining experience. You and 14 other guests 
 step into the kitchen as the culinary magic unfolds in real-time. No menu i
 s ever repeated twice to ensure every single time we lift the curtain is un
 ique.\n\nTaking inspiration from the renowned Pinotxo Bar on the Ramblas in
  Barcelona\, the ICE Lunch Bar is relaxed and unpretentious to ensure you i
 nstantly feel comfortable and welcome.\n\nWe will explain the ingredients\,
  processes\, and dishes to you and then take you on our culinary journey of
  courses. An ICE Lunch Bar is simply a place where theatre and cooking unit
 e to create an unforgettable dining experience.\n\nDrinks are not included 
 but we have a fully stocked bar and an extensive wine list available throug
 hout (charged separately).\n\nWith just 15 seats available\, please book ea
 rly to avoid disappointment. Bookings are not guaranteed until full payment
  is made.  Cancellations made with less than 7 days’ notice unfortunatel
 y cannot be refunded.\n\nPlease arrive by 12.15 pm ready to be seated at 12
 .30 pm. By asking everybody to sit together we can ensure that you are all 
 part of the same experience and enjoy our dining journey as one.\n\nTo enab
 le us to ensure your ICE experience is seamless and special\, we would be v
 ery grateful if you could please let us know if you have any specific dieta
 ry or access requirements. We will always try to adjust our dishes for you 
 whenever possible. Please email us (info@icecookschool.co.uk) at your earli
 est convenience with your dietary requirements.\n\nOur goal is to make sure
  each and every guest has an amazing experience. That has become the proud 
 benchmark of the ICE Lunch Bar!
LOCATION:ICE Cook School
DTSTAMP:20260423T163008Z
DTSTART:20260710T111500Z
DTEND:20260710T140000Z
END:VEVENT
END:VCALENDAR
